BEGIN:VCALENDAR
VERSION:2.0
PRODID:-//ChamberMaster//Event Calendar 2.0//EN
METHOD:PUBLISH
X-PUBLISHED-TTL:P3D
REFRESH-INTERVAL:P3D
CALSCALE:GREGORIAN
BEGIN:VEVENT
DTSTART:20231012T213000Z
DTEND:20231012T233000Z
X-MICROSOFT-CDO-ALLDAYEVENT:FALSE
SUMMARY:Autumn Soiree Mixer
DESCRIPTION:Make your Great Living Home a Reality!\n\nCreative Process Workshops\n\nDesigner Workshop\n\nGallery Artist Reception\n\nChefs preparing Autumn Samplers\n\nLocal Farm Treats\n\nand so much more
X-ALT-DESC;FMTTYPE=text/html:Make your Great Living Home a Reality!<br />\nCreative Process Workshops<br />\nDesigner Workshop<br />\nGallery Artist Reception<br />\nChefs preparing Autumn Samplers<br />\nLocal Farm Treats<br />\nand so much more
LOCATION:6 Smiths Lane Route 1 Traffic Circle Seabrook NH Upstairs from Appliance Warehouse
UID:e.1550.10457
SEQUENCE:3
DTSTAMP:20260420T000842Z
URL:https://business.salisburychamber.com/events/details/autumn-soiree-mixer-10457
END:VEVENT

END:VCALENDAR
