BEGIN:VCALENDAR
VERSION:2.0
PRODID:-//ChamberMaster//Event Calendar 2.0//EN
METHOD:PUBLISH
X-PUBLISHED-TTL:P3D
REFRESH-INTERVAL:P3D
CALSCALE:GREGORIAN
BEGIN:VEVENT
DTSTART:20190912T213000Z
DTEND:20190913T003000Z
X-MICROSOFT-CDO-ALLDAYEVENT:FALSE
SUMMARY:Fall Fun Fling at the Beach 2019
DESCRIPTION:Come join your fellow Salisbury Chamber members as we celebrate 50 years at the Salisbury Discount House and say goodbye to Summer and hello to Fall. No evening would be complete without ice cream dessert at Joe's Playland. Oh\, don't forget the Scavenger Hunt!
X-ALT-DESC;FMTTYPE=text/html:Come join your fellow Salisbury Chamber members as we celebrate 50 years at the Salisbury Discount House and say goodbye to Summer and hello to Fall. No evening would be complete without ice cream dessert at Joe&#39\;s Playland. Oh\, don&#39\;t forget the Scavenger Hunt!&nbsp\;
LOCATION:The Salisbury Discount House is your host\, where you can enjoy tasty treats and a drink to sip while you network.
UID:e.1550.8453
SEQUENCE:3
DTSTAMP:20260425T024029Z
URL:https://business.salisburychamber.com/events/details/fall-fun-fling-at-the-beach-2019-8453
END:VEVENT

END:VCALENDAR
