BEGIN:VCALENDAR
VERSION:2.0
PRODID:-//ChamberMaster//Event Calendar 2.0//EN
METHOD:PUBLISH
X-PUBLISHED-TTL:P3D
REFRESH-INTERVAL:P3D
CALSCALE:GREGORIAN
BEGIN:VEVENT
DTSTART:20190911T160000Z
DTEND:20190911T170000Z
X-MICROSOFT-CDO-ALLDAYEVENT:FALSE
SUMMARY:September Brown Bag Lunch
DESCRIPTION:Life Insurance: "Different Life Insurance Needs for Different Stages of Life"\n\nFeaturing Lauren LaPlante of Modern Woodmen of America
X-ALT-DESC;FMTTYPE=text/html:<font color="#222222" face="Arial\, Helvetica\, sans-serif" size="2">Life Insurance: &quot\;Different Life Insurance Needs for Different Stages of Life&quot\;</font><br />\nFeaturing Lauren LaPlante of Modern Woodmen of America
LOCATION:Salisbury Police Station Community Room 181 Beach Road Salisbury MA
UID:e.1550.8030
SEQUENCE:3
DTSTAMP:20260425T023922Z
URL:https://business.salisburychamber.com/events/details/september-brown-bag-lunch-8030
END:VEVENT

END:VCALENDAR
